BEGIN:VCALENDAR
VERSION:2.0
PRODID:-//ChamberMaster//Event Calendar 2.0//EN
METHOD:PUBLISH
X-PUBLISHED-TTL:P3D
REFRESH-INTERVAL:P3D
CALSCALE:GREGORIAN
BEGIN:VEVENT
DTSTART:20230325T230000Z
DTEND:20230326T010000Z
X-MICROSOFT-CDO-ALLDAYEVENT:FALSE
SUMMARY:Order of the Eastern Star Installation of New Officers 2023/2024
DESCRIPTION:We would like to invite you to join us for the 2023/2024 Installation of new officers for the Order of Eastern Stars\, Plant City Chapter #81. This will be an open meeting for anyone to join and learn about the OES.
X-ALT-DESC;FMTTYPE=text/html:We would like to invite you to join us for the 2023/2024 Installation of new officers for the Order of Eastern Stars\, Plant City Chapter #81. This will be an open meeting for anyone to join and learn about the OES.
LOCATION:803 W. Mahoney St. Plant City\, FL. 33563
UID:e.2462.13948
SEQUENCE:3
DTSTAMP:20260424T145006Z
URL:https://business.plantcity.org/events/details/order-of-the-eastern-star-installation-of-new-officers-2023-2024-13948
END:VEVENT

END:VCALENDAR
