BEGIN:VCALENDAR
VERSION:2.0
PRODID:-//ChamberMaster//Event Calendar 2.0//EN
METHOD:PUBLISH
X-PUBLISHED-TTL:P3D
REFRESH-INTERVAL:P3D
CALSCALE:GREGORIAN
BEGIN:VEVENT
DTSTART:20251109T000000Z
DTEND:20251109T013000Z
X-MICROSOFT-CDO-ALLDAYEVENT:FALSE
SUMMARY:Open Mic Night
DESCRIPTION:Open Mic Night at Krazy Kup! Join us for our KRAZY FUN night\, where you get to be the show!!!! Come out\, strut your stuff and show us what you got! Performers must be 13 and up. Open Mic Night at Krazy Kup! Join us for our KRAZY FUN night\, where you get to be the show!!!! Come out\, strut your stuff and show us what you got! Performers must be 13 and up.
X-ALT-DESC;FMTTYPE=text/html:Open Mic Night at Krazy Kup! Join us for our KRAZY FUN night\, where you get to be the show!!!! Come out\, strut your stuff and show us what you got! Performers must be 13 and up. Open Mic Night at Krazy Kup! Join us for our KRAZY FUN night\, where you get to be the show!!!! Come out\, strut your stuff and show us what you got! Performers must be 13 and up.
LOCATION:
UID:e.2462.17571
SEQUENCE:3
DTSTAMP:20260424T195413Z
URL:https://business.plantcity.org/events/details/open-mic-night-11-08-2025-17571
END:VEVENT

END:VCALENDAR
