BEGIN:VCALENDAR
VERSION:2.0
PRODID:-//ChamberMaster//Event Calendar 2.0//EN
METHOD:PUBLISH
X-PUBLISHED-TTL:P3D
REFRESH-INTERVAL:P3D
CALSCALE:GREGORIAN
BEGIN:VEVENT
DTSTART:20250510T230000Z
DTEND:20250511T003000Z
X-MICROSOFT-CDO-ALLDAYEVENT:FALSE
SUMMARY:Open Mic Night
DESCRIPTION:Open Mic Night at Krazy Kup! Join us for our KRAZY FUN night\, where you get to be the show!!!! Come out\, strut your stuff and show us what you got! Performers must be 13 and up
X-ALT-DESC;FMTTYPE=text/html:Open Mic Night at Krazy Kup! Join us for our KRAZY FUN night\, where you get to be the show!!!! Come out\, strut your stuff and show us what you got! Performers must be 13 and up
LOCATION:
UID:e.2462.16978
SEQUENCE:3
DTSTAMP:20260419T212300Z
URL:https://business.plantcity.org/events/details/open-mic-night-05-10-2025-16978
END:VEVENT

END:VCALENDAR
