BEGIN:VCALENDAR
VERSION:2.0
PRODID:-//ChamberMaster//Event Calendar 2.0//EN
METHOD:PUBLISH
X-PUBLISHED-TTL:P3D
REFRESH-INTERVAL:P3D
CALSCALE:GREGORIAN
BEGIN:VEVENT
DTSTART:20210928T170000Z
DTEND:20210928T200000Z
X-MICROSOFT-CDO-ALLDAYEVENT:FALSE
SUMMARY:Non-Profit Leadership Round Table
DESCRIPTION:Non-Profit Round Table Discussion is a great time of networking with like minded agencies as we all work together to help those in need and build a stronger community. We will also be hearing from guest speaker Brian West\, Publix Community Relations. \n\n\n\nBrian is a life-long resident of Plant City\, a graduate of Plant City High School and Florida Southern College where he earned a Bachelor's Degree in Human Resource Management\, with a minor in Finance. He began his career with Publix Super Markets in 1991\, and is the Community Relations Manager covering 17 counties in central and southwest Florida. Brian currently serves as Board Member for the Lakeland Chamber of Commerce\, Board Member for the East Hillsborough Law Enforcement Appreciation Association\, and Associate Director for the Florida Strawberry Festival.\n\n\n\n\n\nRegister today!\n\nFree for members\n\n$10 for Non-Members
X-ALT-DESC;FMTTYPE=text/html:<span style="font-family:times new roman\;"><span style="font-size:12px\;"><span background-color:="" font-size:="" new="" style="color: rgb(51\, 51\, 51)\; font-family: sans-serif\, Arial\, Verdana\, " times="" trebuchet="">Non-Profit Round Table Discussion is</span><span background-color:="" color:="" font-size:="" new="" style="color: rgb(51\, 51\, 51)\; font-family: sans-serif\, Arial\, Verdana\, " times="" trebuchet="">&nbsp\;a great time of networking with like minded agencies as we all work together to help those in need and build a stronger community. We will also be hearing from guest speaker Brian West\, Publix Community Relations.&nbsp\;</span><br />\n<br />\n<strong>Brian is a life-long resident of Plant City\, a graduate of Plant City High School and Florida Southern College where he earned a Bachelor&rsquo\;s Degree in Human Resource Management\, with a minor in Finance. He began his career with Publix Super Markets in 1991\, and is the Community Relations Manager covering 17 counties in central and southwest Florida. Brian currently serves as Board Member for the Lakeland Chamber of Commerce\, Board Member for the East Hillsborough Law Enforcement Appreciation Association\, and Associate Director for the Florida Strawberry Festival.</strong><br />\n<br />\n<br />\n<span background-color:="" color:="" font-size:="" new="" style="color: rgb(51\, 51\, 51)\; font-family: sans-serif\, Arial\, Verdana\, " times="" trebuchet="">Register today!<br />\nFree for members<br />\n$10 for Non-Members&nbsp\;</span><br font-size:="" style="color: rgb(51\, 51\, 51)\; font-family: sans-serif\, Arial\, Verdana\, " trebuchet="" />\n<span background-color:="" font-size:="" style="color: rgb(51\, 51\, 51)\; font-family: sans-serif\, Arial\, Verdana\, " trebuchet="">&nbsp\;</span></span></span><br />\n<br />\n<br />\n&nbsp\;
LOCATION:This is a virtual event.
UID:e.2462.12244
SEQUENCE:3
DTSTAMP:20260419T163419Z
URL:https://business.plantcity.org/events/details/non-profit-leadership-round-table-12244
END:VEVENT

END:VCALENDAR
