BEGIN:VCALENDAR
VERSION:2.0
PRODID:-//ChamberMaster//Event Calendar 2.0//EN
METHOD:PUBLISH
X-PUBLISHED-TTL:P3D
REFRESH-INTERVAL:P3D
CALSCALE:GREGORIAN
BEGIN:VEVENT
DTSTART:20241023T220000Z
DTEND:20241024T000000Z
X-MICROSOFT-CDO-ALLDAYEVENT:FALSE
SUMMARY:Music Bingo with John Parker
DESCRIPTION:John Parker is back for another exciting Music Bingo night. Mark your cards as you listen to hits and compete for great prizes.
X-ALT-DESC;FMTTYPE=text/html:John Parker is back for another exciting Music Bingo night. Mark your cards as you listen to hits and compete for great prizes.
LOCATION:Stage 201\, Plant City
UID:e.2462.16150
SEQUENCE:3
DTSTAMP:20260420T101722Z
URL:https://business.plantcity.org/events/details/music-bingo-with-john-parker-10-23-2024-16150
END:VEVENT

END:VCALENDAR
