BEGIN:VCALENDAR
VERSION:2.0
PRODID:-//ChamberMaster//Event Calendar 2.0//EN
METHOD:PUBLISH
X-PUBLISHED-TTL:P3D
REFRESH-INTERVAL:P3D
CALSCALE:GREGORIAN
BEGIN:VEVENT
DTSTART:20250321T220000Z
DTEND:20250321T233000Z
X-MICROSOFT-CDO-ALLDAYEVENT:FALSE
SUMMARY:Modern Calligraphy Class for Beginners
DESCRIPTION:Learn modern calligraphy for beginners by Kaylie\, the Owner & Founder of Mulberry Market. With 13 years of hand lettering experience\, countless years of hand lettering for thousands of weddings and signs\; Kaylie will show you how to enhance your lettering skills and learn the beautiful art of brushed calligraphy. Join us at Mulberry Market Events on MARCH 21st at 6 pm in Downtown Plant City\, FL for our hand-lettering workshop! Whether you just want to learn how to write on pretty stationary\, a DIY Bride-to-be\, or just a crafty individual\, this workshop will be a fun one for you!
X-ALT-DESC;FMTTYPE=text/html:Learn modern calligraphy for beginners by Kaylie\, the Owner &amp\; Founder of Mulberry Market. With 13 years of hand lettering experience\, countless years of hand lettering for thousands of weddings and signs\; Kaylie will show you how to enhance your lettering skills and learn the beautiful art of brushed calligraphy. Join us at Mulberry Market Events on MARCH 21st at 6 pm in Downtown Plant City\, FL for our hand-lettering workshop! Whether you just want to learn how to write on pretty stationary\, a DIY Bride-to-be\, or just a crafty individual\, this workshop will be a fun one for you!
LOCATION:Mulberry Market 301 S. Collins St. #102 Plant City\, FL 33563
UID:e.2462.16904
SEQUENCE:3
DTSTAMP:20260419T212150Z
URL:https://business.plantcity.org/events/details/modern-calligraphy-class-for-beginners-16904
END:VEVENT

END:VCALENDAR
