BEGIN:VCALENDAR
VERSION:2.0
PRODID:-//ChamberMaster//Event Calendar 2.0//EN
METHOD:PUBLISH
X-PUBLISHED-TTL:P3D
REFRESH-INTERVAL:P3D
CALSCALE:GREGORIAN
BEGIN:VEVENT
DTSTART:20250523T203000Z
DTEND:20250523T213000Z
X-MICROSOFT-CDO-ALLDAYEVENT:FALSE
SUMMARY:Mindfulness Meditation with Giving Tree Music
DESCRIPTION:Come relax and learn with Giving Tree Music demonstrating multiple instruments used in the practice of meditation\, while also learning about the science of sound. A short\, guided visualization with tools & techniques that can be practiced at home to help manage stress and anxiety is included.
X-ALT-DESC;FMTTYPE=text/html:Come relax and learn with Giving Tree Music demonstrating multiple instruments used in the practice of meditation\, while also learning about the science of sound. A short\, guided visualization with tools &amp\; techniques that can be practiced at home to help manage stress and anxiety is included.
LOCATION:Bruton Memorial Library
UID:e.2462.16959
SEQUENCE:3
DTSTAMP:20260419T212359Z
URL:https://business.plantcity.org/events/details/mindfulness-meditation-with-giving-tree-music-16959
END:VEVENT

END:VCALENDAR
