BEGIN:VCALENDAR
VERSION:2.0
PRODID:-//ChamberMaster//Event Calendar 2.0//EN
METHOD:PUBLISH
X-PUBLISHED-TTL:P3D
REFRESH-INTERVAL:P3D
CALSCALE:GREGORIAN
BEGIN:VEVENT
DTSTART:20230324T120000Z
DTEND:20230324T170000Z
X-MICROSOFT-CDO-ALLDAYEVENT:FALSE
SUMMARY:Military Agriculture Tour
DESCRIPTION:Discover career options beyond the field that focus on technology and management systems for the production of food\, medicine\, consumer products\, and energy. \n\n\n\nA bus tour to a variety of Hillsborough County farming operations\, supporting industries\, and the University of Florida Gulf Coast Research and Education Center in southern Hillsborough County.
X-ALT-DESC;FMTTYPE=text/html:Discover career options beyond the field that focus on technology and management systems for the production of food\, medicine\, consumer products\, and energy.&nbsp\;<br />\n<br />\nA bus tour to a variety of Hillsborough County farming operations\, supporting industries\, and the University of Florida Gulf Coast Research and Education Center in southern Hillsborough County.
LOCATION:Hillsborough County Extension Service 5339 County Road 579 in Seffner
UID:e.2462.13931
SEQUENCE:3
DTSTAMP:20260424T144511Z
URL:https://business.plantcity.org/events/details/military-agriculture-tour-13931
END:VEVENT

END:VCALENDAR
