BEGIN:VCALENDAR
VERSION:2.0
PRODID:-//ChamberMaster//Event Calendar 2.0//EN
METHOD:PUBLISH
X-PUBLISHED-TTL:P3D
REFRESH-INTERVAL:P3D
CALSCALE:GREGORIAN
BEGIN:VEVENT
DTSTART:20250616T220000Z
DTEND:20250617T010000Z
X-MICROSOFT-CDO-ALLDAYEVENT:FALSE
SUMMARY:MICHAEL BRAND Presents Music & Community: LIVE Concert
DESCRIPTION:Join Michael Brand\, Candidate for Honorary Mayor of East Hillsborough County\, for a Live Concert featuring Sidney O'Sullivan!\n\nEnjoy an incredible evening of live music at Voodoo Brewing Co. with local favorite Sidney O'Sullivan!\n\nThe night will also feature exciting raffles and a 50/50 drawing giving you even more ways to win while supporting a three great non-profits.\n\nProceeds benefit ECHO of Brandon\, Hope for Her\, and Girls & Boys with Confidence.\n\nLet's Rise Together and make a difference in our community!
X-ALT-DESC;FMTTYPE=text/html:<p><span style="font-size:16px"><span style="font-family:times new roman"><span style="color:rgb(0\, 0\, 128)">Join Michael Brand\, Candidate for Honorary Mayor of East Hillsborough County\, for a Live Concert featuring Sidney O&rsquo\;Sullivan!</span></span></span></p>\n\n<p><span style="font-size:16px"><span style="font-family:times new roman"><span style="color:rgb(0\, 0\, 128)">Enjoy an incredible evening of live music at&nbsp\;Voodoo Brewing Co.&nbsp\;with local favorite&nbsp\;Sidney O&rsquo\;Sullivan!</span></span></span></p>\n\n<p><span style="font-size:16px"><span style="font-family:times new roman"><span style="color:rgb(0\, 0\, 128)">The night will also feature exciting&nbsp\;raffles&nbsp\;and a&nbsp\;50/50 drawing&mdash\;giving you even more ways to win while supporting a three great non-profits.</span></span></span></p>\n\n<p><span style="font-size:16px"><span style="font-family:times new roman"><span style="color:rgb(0\, 0\, 128)">Proceeds benefit&nbsp\;ECHO of Brandon\,&nbsp\;Hope for Her\, and&nbsp\;Girls &amp\; Boys with Confidence.</span></span></span></p>\n\n<p><span style="font-size:16px"><span style="font-family:times new roman"><span style="color:rgb(0\, 0\, 128)">Let&rsquo\;s Rise Together and make a difference in our community!</span></span></span></p>\n
LOCATION:Voodoo Brewing Co. 3432 State Rd 60 Valrico\, FL 33594
UID:e.2462.16988
SEQUENCE:3
DTSTAMP:20260419T225943Z
URL:https://business.plantcity.org/events/details/michael-brand-presents-music-community-live-concert-16988
END:VEVENT

END:VCALENDAR
