BEGIN:VCALENDAR
VERSION:2.0
PRODID:-//ChamberMaster//Event Calendar 2.0//EN
METHOD:PUBLISH
X-PUBLISHED-TTL:P3D
REFRESH-INTERVAL:P3D
CALSCALE:GREGORIAN
BEGIN:VEVENT
DTSTART:20250624T220000Z
DTEND:20250625T010000Z
X-MICROSOFT-CDO-ALLDAYEVENT:FALSE
SUMMARY:MICHAEL BRAND - Honorary Mayor's Race Bourbon & Wine Tasting Event!
DESCRIPTION:Join Michael Brand\, Candidate for Honorary Mayor of East Hillsborough County\, for a Bourbon & Wine Tasting Event!\n\nSip\, savor\, and support at this elegant evening of fine bourbon and wine tasting at The Boulevard Supper Club on Tuesday\, June 24th.\n\nEnjoy curated selections of premium bourbons and wines\, paired with delicious bites\, while mingling for a great purpose.\n\n\n\nThe evening will also feature raffles\, a silent auction\, and a 50/50 drawing giving you even more chances to win while supporting vital local organizations.\n\nProceeds benefit ECHO of Brandon\, Hope for Her\, and Girls & Boys with Confidence.\n\nLet's rise together over a glass (or two!) and make a meaningful impact in our community.
X-ALT-DESC;FMTTYPE=text/html:<p><span style="font-size:16px"><span style="color:rgb(0\, 0\, 128)"><span style="font-family:times new roman">Join Michael Brand\, Candidate for Honorary Mayor of East Hillsborough County\, for a Bourbon &amp\; Wine Tasting Event!</span></span></span></p>\n\n<p><span style="font-size:16px"><span style="color:rgb(0\, 0\, 128)"><span style="font-family:times new roman">Sip\, savor\, and support at this elegant evening of fine bourbon and wine tasting at&nbsp\;The Boulevard Supper Club&nbsp\;on&nbsp\;Tuesday\, June 24th.</span></span></span></p>\n\n<p><span style="font-size:16px"><span style="color:rgb(0\, 0\, 128)"><span style="font-family:times new roman">Enjoy curated selections of premium bourbons and wines\, paired with delicious bites\, while mingling for a great purpose.<br />\n<br />\nThe evening will also feature&nbsp\;raffles\, a&nbsp\;silent auction\, and a&nbsp\;50/50 drawing&mdash\;giving you even more chances to win while supporting vital local organizations.</span></span></span></p>\n\n<p><span style="font-size:16px"><span style="color:rgb(0\, 0\, 128)"><span style="font-family:times new roman">Proceeds benefit&nbsp\;ECHO of Brandon\,&nbsp\;Hope for Her\, and&nbsp\;Girls &amp\; Boys with Confidence.</span></span></span></p>\n\n<p><span style="font-size:16px"><span style="color:rgb(0\, 0\, 128)"><span style="font-family:times new roman">Let&rsquo\;s rise together over a glass (or two!) and make a meaningful impact in our community.</span></span></span></p>\n
LOCATION:Boulevard Supper Club 15260 Fishhawk Blvd Lithia\, FL 33547
UID:e.2462.16990
SEQUENCE:3
DTSTAMP:20260419T225710Z
URL:https://business.plantcity.org/events/details/michael-brand-honorary-mayor-s-race-bourbon-wine-tasting-event-16990
END:VEVENT

END:VCALENDAR
