BEGIN:VCALENDAR
VERSION:2.0
PRODID:-//ChamberMaster//Event Calendar 2.0//EN
METHOD:PUBLISH
X-PUBLISHED-TTL:P3D
REFRESH-INTERVAL:P3D
CALSCALE:GREGORIAN
BEGIN:VEVENT
DTSTART:20250610T220000Z
DTEND:20250611T010000Z
X-MICROSOFT-CDO-ALLDAYEVENT:FALSE
SUMMARY:MICHAEL BRAND-Honorary Mayor's Race: Bingo\, Bags\, Sports & Big Wins!
DESCRIPTION:Join Michael Brand\, Candidate for Honorary Mayor of East Hillsborough County\, for Purse & Sports Bingo!\n\nGet ready for an exciting night of bingo\, featuring fabulous purses\, sports gear\, and great company all while supporting three worthy non-profits!\n\nThe evening will also include raffles\, a silent auction\, and a 50/50 drawing - plenty of chances to win big while giving back. \n\nThis event benefits ECHO of Brandon\, Hope for Her\, and Girls & Boys with Confidence.\n\nLet's Rise Together to support our community and have some fun along the way!
X-ALT-DESC;FMTTYPE=text/html:<p><span style="font-size:16px"><span style="font-family:times new roman"><span style="color:rgb(0\, 0\, 128)">Join Michael Brand\, Candidate for Honorary Mayor of East Hillsborough County\, for Purse &amp\; Sports Bingo!</span></span></span></p>\n\n<p><span style="font-size:16px"><span style="font-family:times new roman"><span style="color:rgb(0\, 0\, 128)">Get ready for an exciting night of bingo\, featuring fabulous purses\, sports gear\, and great company&mdash\;all while supporting three worthy non-profits!</span></span></span></p>\n\n<p><span style="font-size:16px"><span style="font-family:times new roman"><span style="color:rgb(0\, 0\, 128)">The evening will also include&nbsp\;raffles\,&nbsp\;a&nbsp\;silent auction\,&nbsp\;and a&nbsp\;50/50 drawing&nbsp\;- plenty of chances&nbsp\;to win big while giving back.&nbsp\;</span></span></span></p>\n\n<p><span style="font-size:16px"><span style="font-family:times new roman"><span style="color:rgb(0\, 0\, 128)">This event benefits&nbsp\;ECHO of Brandon\,&nbsp\;Hope for Her\, and&nbsp\;Girls &amp\; Boys with Confidence.</span></span></span></p>\n\n<p><span style="font-size:16px"><span style="font-family:times new roman"><span style="color:rgb(0\, 0\, 128)">Let&rsquo\;s Rise Together to support our community and have some fun along the way!</span></span></span></p>\n
LOCATION:Voodoo Brewing Co 3432 State Road 60 Valrico\, FL
UID:e.2462.16987
SEQUENCE:3
DTSTAMP:20260419T230223Z
URL:https://business.plantcity.org/events/details/michael-brand-honorary-mayor-s-race-bingo-bags-sports-big-wins-16987
END:VEVENT

END:VCALENDAR
