BEGIN:VCALENDAR
VERSION:2.0
PRODID:-//ChamberMaster//Event Calendar 2.0//EN
METHOD:PUBLISH
X-PUBLISHED-TTL:P3D
REFRESH-INTERVAL:P3D
CALSCALE:GREGORIAN
BEGIN:VEVENT
DTSTART:20250507T143000Z
DTEND:20250507T153000Z
X-MICROSOFT-CDO-ALLDAYEVENT:FALSE
SUMMARY:Metro BrigAIDe Outreach
DESCRIPTION:If you are currently unhoused\, please pass by the welcoming environment in the library and learn about the different services provided by Metropolitan BrigAIDe Ministries. Services include: ID\, social security\, employment assistance and many more.
X-ALT-DESC;FMTTYPE=text/html:If you are currently unhoused\, please pass by the welcoming environment in the library and learn about the different services provided by Metropolitan BrigAIDe Ministries. Services include: ID\, social security\, employment assistance and many more.
LOCATION:Bruton Memorial Library
UID:e.2462.16947
SEQUENCE:3
DTSTAMP:20260419T212423Z
URL:https://business.plantcity.org/events/details/metro-brigaide-outreach-16947
END:VEVENT

END:VCALENDAR
