BEGIN:VCALENDAR
VERSION:2.0
PRODID:-//ChamberMaster//Event Calendar 2.0//EN
METHOD:PUBLISH
X-PUBLISHED-TTL:P3D
REFRESH-INTERVAL:P3D
CALSCALE:GREGORIAN
BEGIN:VEVENT
DTSTART:20250824T200000Z
DTEND:20250824T220000Z
X-MICROSOFT-CDO-ALLDAYEVENT:FALSE
SUMMARY:Making More Lemonade with Morgan Pierce
DESCRIPTION:Come enjoy a multifaceted art talk featuring the work of the late artist Morgan Pierce for a glimpse of how she let us into her world through her work. This is a No More Umbrellas Charity event. .
X-ALT-DESC;FMTTYPE=text/html:Come enjoy a multifaceted art talk featuring the work of the late artist Morgan Pierce for a glimpse of how she let us into her world through her work. This is a No More Umbrellas Charity event. .
LOCATION:Red Calliope Gallery on Evers
UID:e.2462.17504
SEQUENCE:3
DTSTAMP:20260425T002540Z
URL:https://business.plantcity.org/events/details/making-more-lemonade-with-morgan-pierce-17504
END:VEVENT

END:VCALENDAR
