BEGIN:VCALENDAR
VERSION:2.0
PRODID:-//ChamberMaster//Event Calendar 2.0//EN
METHOD:PUBLISH
X-PUBLISHED-TTL:P3D
REFRESH-INTERVAL:P3D
CALSCALE:GREGORIAN
BEGIN:VEVENT
DTSTART:20250501T213000Z
DTEND:20250501T223000Z
X-MICROSOFT-CDO-ALLDAYEVENT:FALSE
SUMMARY:Make & Paint for Teens
DESCRIPTION:Come make a clay craft with us! Will you make a jewelry holder or maybe a planter? Join us on May 1st to make your design and come back May 7th to paint your art piece!
X-ALT-DESC;FMTTYPE=text/html:Come make a clay craft with us! Will you make a jewelry holder or maybe a planter? Join us on May 1st to make your design and come back May 7th to paint your art piece!
LOCATION:Bruton Memorial Library
UID:e.2462.16949
SEQUENCE:3
DTSTAMP:20260419T212149Z
URL:https://business.plantcity.org/events/details/make-paint-for-teens-16949
END:VEVENT

END:VCALENDAR
