BEGIN:VCALENDAR
VERSION:2.0
PRODID:-//ChamberMaster//Event Calendar 2.0//EN
METHOD:PUBLISH
X-PUBLISHED-TTL:P3D
REFRESH-INTERVAL:P3D
CALSCALE:GREGORIAN
BEGIN:VEVENT
DTSTART:20250206T223000Z
DTEND:20250206T233000Z
X-MICROSOFT-CDO-ALLDAYEVENT:FALSE
SUMMARY:Library Karaoke
DESCRIPTION:Come sing your heart out at our Library Karaoke!! Let the music flow through you and cheer others on too! Everyone is welcome to sing!
X-ALT-DESC;FMTTYPE=text/html:Come sing your heart out at our Library Karaoke!! Let the music flow through you and cheer others on too! Everyone is welcome to sing!
LOCATION:Bruton Memorial Library
UID:e.2462.16840
SEQUENCE:3
DTSTAMP:20260419T225007Z
URL:https://business.plantcity.org/events/details/library-karaoke-16840
END:VEVENT

END:VCALENDAR
