BEGIN:VCALENDAR
VERSION:2.0
PRODID:-//ChamberMaster//Event Calendar 2.0//EN
METHOD:PUBLISH
X-PUBLISHED-TTL:P3D
REFRESH-INTERVAL:P3D
CALSCALE:GREGORIAN
BEGIN:VEVENT
DTSTART:20250627T210000Z
DTEND:20250628T010000Z
X-MICROSOFT-CDO-ALLDAYEVENT:FALSE
SUMMARY:Last Friday
DESCRIPTION:Last Friday in downtown Plant City is a vibrant themed monthly event that transforms Main Street into a bustling hub of activity. Featuring a diverse vendor market\, the Main Street Kids Zone\, live music\, and an array of extraordinary food selections. Attendees can join in costume contests\, engage in scavenger hunts\, and immerse themselves in a lively community celebration. It's a perfect blend of family-friendly fun and local charm\, making Last Friday the highlight of the month in downtown Plant City.
X-ALT-DESC;FMTTYPE=text/html:Last Friday in downtown Plant City is a vibrant themed monthly event that transforms Main Street into a bustling hub of activity. Featuring a diverse vendor market\, the Main Street Kids Zone\, live music\, and an array of extraordinary food selections. Attendees can join in costume contests\, engage in scavenger hunts\, and immerse themselves in a lively community celebration. It&#39\;s a perfect blend of family-friendly fun and local charm\, making Last Friday the highlight of the month in downtown Plant City.
LOCATION:Downtown Plant City
UID:e.2462.14896
SEQUENCE:3
DTSTAMP:20260419T225106Z
URL:https://business.plantcity.org/events/details/last-friday-06-27-2025-14896
END:VEVENT

END:VCALENDAR
