BEGIN:VCALENDAR
VERSION:2.0
PRODID:-//ChamberMaster//Event Calendar 2.0//EN
METHOD:PUBLISH
X-PUBLISHED-TTL:P3D
REFRESH-INTERVAL:P3D
CALSCALE:GREGORIAN
BEGIN:VEVENT
DTSTART:20250507T163000Z
DTEND:20250507T200000Z
X-MICROSOFT-CDO-ALLDAYEVENT:FALSE
SUMMARY:Land the Deal: Contracting with Hillsborough County
DESCRIPTION:Join the Florida SBDC at Hillsborough County during National Small Business Week for Land the Deal: Contracting with Hillsborough County\, an interactive event designed to help local businesses navigate the procurement process\, understand certification opportunities\, and develop winning bidding strategies.
X-ALT-DESC;FMTTYPE=text/html:Join the Florida SBDC at Hillsborough County during National Small Business Week for Land the Deal: Contracting with Hillsborough County\, an interactive event designed to help local businesses navigate the procurement process\, understand certification opportunities\, and develop winning bidding strategies.
LOCATION:Entrepreneur Collaborative Center ECC 2101 East Palm Ave. Tampa\, FL 33605
UID:e.2462.16937
SEQUENCE:3
DTSTAMP:20260419T212742Z
URL:https://business.plantcity.org/events/details/land-the-deal-contracting-with-hillsborough-county-16937
END:VEVENT

END:VCALENDAR
