BEGIN:VCALENDAR
VERSION:2.0
PRODID:-//ChamberMaster//Event Calendar 2.0//EN
METHOD:PUBLISH
X-PUBLISHED-TTL:P3D
REFRESH-INTERVAL:P3D
CALSCALE:GREGORIAN
BEGIN:VEVENT
DTSTART:20260422T120000Z
DTEND:20260423T030000Z
X-MICROSOFT-CDO-ALLDAYEVENT:FALSE
SUMMARY:Labor & Employment Law Seminar
DESCRIPTION:Please join us for this complimentary seminar as we share insights and best practices for navigating employment issues that impact your workplace.
X-ALT-DESC;FMTTYPE=text/html:Please join us for this complimentary seminar as we share insights and best practices for navigating employment issues that impact your workplace.&nbsp\;
LOCATION:Hyatt Place Tampa Wesley Chapel 26000 Sierra Center Blvd. Lutz\, FL 33559
UID:e.2462.18080
SEQUENCE:3
DTSTAMP:20260421T083252Z
URL:https://business.plantcity.org/events/details/labor-employment-law-seminar-18080
END:VEVENT

END:VCALENDAR
