BEGIN:VCALENDAR
VERSION:2.0
PRODID:-//ChamberMaster//Event Calendar 2.0//EN
METHOD:PUBLISH
X-PUBLISHED-TTL:P3D
REFRESH-INTERVAL:P3D
CALSCALE:GREGORIAN
BEGIN:VEVENT
DTSTART:20220820T230000Z
DTEND:20220821T003000Z
X-MICROSOFT-CDO-ALLDAYEVENT:FALSE
SUMMARY:Klean Komedy Night
DESCRIPTION:Join us for a night of AWESOME laughs and CLEAN COMEDY with comedians who have graced stages big and small! Bring the family\, ALL AGES are welcome! Headliner DONNIE STOPA You've heard him on "Apple Music\," "The Daren Streblow Comedy Show\," and have likely seen him sleeping in his car! He has appeared on ROKU's "Creative Motion Network\," at DRYBAR\,  His style is observational\, yet silly\, anecdotal\, yet substantive\, intellectual\, yet... not so much. Donnie's parody songs are hilarious\, making him an entertainer for any crowd that is ready to laugh. Donnie delivers the laughs\, and thoroughly enjoys every moment! Joined by feature act\, Bay Area comedian\, Jay Legend and hosted by Hugo Pinto\,  this is going to be a KrAzY FuNnY night that you don't want to miss!
X-ALT-DESC;FMTTYPE=text/html:Join us for a night of AWESOME laughs and CLEAN COMEDY with comedians who have graced stages big and small! Bring the family\, ALL AGES are welcome! Headliner DONNIE STOPA You&#39\;ve heard him on &quot\;Apple Music\,&quot\; &quot\;The Daren Streblow Comedy Show\,&quot\; and have likely seen him sleeping in his car! He has appeared on ROKU&#39\;s &quot\;Creative Motion Network\,&quot\; at DRYBAR\, &nbsp\;His style is observational\, yet silly\, anecdotal\, yet substantive\, intellectual\, yet... not so much. Donnie&rsquo\;s parody songs are hilarious\, making him an entertainer for any crowd that is ready to laugh. Donnie delivers the laughs\, and thoroughly enjoys every moment! Joined by feature act\, Bay Area comedian\, Jay Legend and hosted by Hugo Pinto\, &nbsp\;this is going to be a KrAzY FuNnY night that you don&#39\;t want to miss!
LOCATION:Krazy Kup
UID:e.2462.13408
SEQUENCE:3
DTSTAMP:20260421T142929Z
URL:https://business.plantcity.org/events/details/klean-komedy-night-13408
END:VEVENT

END:VCALENDAR
