BEGIN:VCALENDAR
VERSION:2.0
PRODID:-//ChamberMaster//Event Calendar 2.0//EN
METHOD:PUBLISH
X-PUBLISHED-TTL:P3D
REFRESH-INTERVAL:P3D
CALSCALE:GREGORIAN
BEGIN:VEVENT
DTSTART:20250126T000000Z
DTEND:20250126T013000Z
X-MICROSOFT-CDO-ALLDAYEVENT:FALSE
SUMMARY:Justin Mason & Blue Night
DESCRIPTION:B A group of musicians who truly love Bluegrass and Entertaining. Traditional Favorites\, heartfelt originals...when they take the stage it is all Justin Mason & Blue Night!
X-ALT-DESC;FMTTYPE=text/html:B A group of musicians who truly love Bluegrass and Entertaining. Traditional Favorites\, heartfelt originals...when they take the stage it is all Justin Mason &amp\; Blue Night!
LOCATION:Krazy Kup
UID:e.2462.16810
SEQUENCE:3
DTSTAMP:20260420T001409Z
URL:https://business.plantcity.org/events/details/justin-mason-blue-night-16810
END:VEVENT

END:VCALENDAR
