BEGIN:VCALENDAR
VERSION:2.0
PRODID:-//ChamberMaster//Event Calendar 2.0//EN
METHOD:PUBLISH
X-PUBLISHED-TTL:P3D
REFRESH-INTERVAL:P3D
CALSCALE:GREGORIAN
BEGIN:VEVENT
DTSTART:20250927T210000Z
DTEND:20251102T000000Z
X-MICROSOFT-CDO-ALLDAYEVENT:FALSE
SUMMARY:Jurassic Haunt: Mammoth Mayhem
DESCRIPTION:Mammoth Mayhem Tampa Bays #1 Family-Friendly Halloween Event! Glowing trails\, scare zones\, haunted train\, face painting\, tattoos & more! Keel Farms drinks nightly. Select weekends Sept 27. - Nov 1. Costumes encouraged!
X-ALT-DESC;FMTTYPE=text/html:Mammoth Mayhem Tampa Bays #1 Family-Friendly Halloween Event! Glowing trails\, scare zones\, haunted train\, face painting\, tattoos &amp\; more! Keel Farms drinks nightly. Select weekends Sept 27. - Nov 1. Costumes encouraged!
LOCATION:Dinosaur World
UID:e.2462.17535
SEQUENCE:3
DTSTAMP:20260424T195731Z
URL:https://business.plantcity.org/events/details/jurassic-haunt-mammoth-mayhem-17535
END:VEVENT

END:VCALENDAR
