BEGIN:VCALENDAR
VERSION:2.0
PRODID:-//ChamberMaster//Event Calendar 2.0//EN
METHOD:PUBLISH
X-PUBLISHED-TTL:P3D
REFRESH-INTERVAL:P3D
CALSCALE:GREGORIAN
BEGIN:VEVENT
DTSTART:20250207T230000Z
DTEND:20250208T020000Z
X-MICROSOFT-CDO-ALLDAYEVENT:FALSE
SUMMARY:Jordan's Way LIVE fundraiser
DESCRIPTION:Join us for an exciting night of fun\, challenges\, and community spirit as we raise funds for our rescue with Jordan's Way\, a nationally recognized fundraising organization!\n\n  Get Involved!\n\nLocal businesses and community members can participate in hilarious challenges like:\n\n  Pie to the Face\n\n  Eating Bugs Dare\n\n  Getting Hosed Down\n\n...and many more!\n\n  Raise the money skip the challenge! The goal is to raise funds\, so if you meet your fundraising target\, you won't have to take on the dare. But where's the fun in that?\n\nWe encourage chamber members\, local businesses\, and even the mayor to join in on the action!
X-ALT-DESC;FMTTYPE=text/html:<p data-end="331" data-start="153">Join us for an exciting night of fun\, challenges\, and community spirit as we raise funds for our rescue with <strong data-end="278" data-start="262">Jordan&rsquo\;s Way</strong>\, a nationally recognized fundraising organization!</p>\n\n<p data-end="529" data-start="333">&#128165\; <strong data-end="353" data-start="336">Get Involved!</strong><br data-end="356" data-start="353" />\nLocal businesses and community members can participate in hilarious challenges like:<br data-end="443" data-start="440" />\n&#127874\; Pie to the Face<br data-end="464" data-start="461" />\n&#128028\; Eating Bugs Dare<br data-end="486" data-start="483" />\n&#128703\; Getting Hosed Down<br data-end="510" data-start="507" />\n...and many more!</p>\n\n<p data-end="708" data-start="531">&#128176\; <strong data-end="573" data-start="534">Raise the money&mdash\;skip the challenge!</strong> The goal is to raise funds\, so if you meet your fundraising target\, you won&rsquo\;t have to take on the dare. But where&rsquo\;s the fun in that?</p>\n\n<p data-end="808" data-start="710">We encourage chamber members\, local businesses\, and even the <strong data-end="780" data-start="771">mayor</strong> to join in on the action!</p>\n
LOCATION:
UID:e.2462.16900
SEQUENCE:3
DTSTAMP:20260419T225458Z
URL:https://business.plantcity.org/events/details/jordan-s-way-live-fundraiser-16900
END:VEVENT

END:VCALENDAR
