BEGIN:VCALENDAR
VERSION:2.0
PRODID:-//ChamberMaster//Event Calendar 2.0//EN
METHOD:PUBLISH
X-PUBLISHED-TTL:P3D
REFRESH-INTERVAL:P3D
CALSCALE:GREGORIAN
BEGIN:VEVENT
DTSTART:20250129T150000Z
DTEND:20250129T180000Z
X-MICROSOFT-CDO-ALLDAYEVENT:FALSE
SUMMARY:Job Fair
DESCRIPTION:Career Source of Hillsborough and Pinellas counties is hosting a job fair to the greater Plant City area. Come out and network with 30+ companies.
X-ALT-DESC;FMTTYPE=text/html:Career Source of Hillsborough and Pinellas counties is hosting a job fair to the greater Plant City area. Come out and network with 30+ companies.
LOCATION:Norman McLeod American Legion Post #26\, 2207 W Baker St\, Plant City\, FL 33563\, (813) 752-8608\, https://alpost26fl.org/
UID:e.2462.16814
SEQUENCE:3
DTSTAMP:20260420T001538Z
URL:https://business.plantcity.org/events/details/job-fair-01-29-2025-16814
END:VEVENT

END:VCALENDAR
