BEGIN:VCALENDAR
VERSION:2.0
PRODID:-//ChamberMaster//Event Calendar 2.0//EN
METHOD:PUBLISH
X-PUBLISHED-TTL:P3D
REFRESH-INTERVAL:P3D
CALSCALE:GREGORIAN
BEGIN:VEVENT
DTSTART:20250201T000000Z
DTEND:20250201T013000Z
X-MICROSOFT-CDO-ALLDAYEVENT:FALSE
SUMMARY:Jacob Johnson live at Krazy Kup
DESCRIPTION:Jacob Johnson has journeyed across the country in six minivans (so far)\, captivating audiences with his highly caffeinated brand of acoustic guitar playing. Known for his energetic performances\, Jacob has had the privilege of sharing the stage with Grammy winners like Tommy Emmanuel\, and Victor Wooten\, as well as esteemed musicians including Phil Keaggy\, Marcus King\, and Tim Reynolds. Beyond his guitar prowess\, Jacob has proven himself as a talented songwriter\, garnering recognition as the Don Gibson Songwriter Award Grand Prize Winner\, Nashville Connection Songwriter of the Year\, and a Finalist for the Freshgrass No Depression Songwriter Award. His ability to craft captivating and heartfelt songs has earned him performances at prestigious music festivals such as the Falcon Ridge Folk Festival in New York\, the Walnut Valley Festival in Kansas\, the Wildflower Music Festival in Texas\, and countless others.
X-ALT-DESC;FMTTYPE=text/html:Jacob Johnson has journeyed across the country in six minivans (so far)\, captivating audiences with his highly caffeinated brand of acoustic guitar playing. Known for his energetic performances\, Jacob has had the privilege of sharing the stage with Grammy winners like Tommy Emmanuel\, and Victor Wooten\, as well as esteemed musicians including Phil Keaggy\, Marcus King\, and Tim Reynolds. Beyond his guitar prowess\, Jacob has proven himself as a talented songwriter\, garnering recognition as the Don Gibson Songwriter Award Grand Prize Winner\, Nashville Connection Songwriter of the Year\, and a Finalist for the Freshgrass No Depression Songwriter Award. His ability to craft captivating and heartfelt songs has earned him performances at prestigious music festivals such as the Falcon Ridge Folk Festival in New York\, the Walnut Valley Festival in Kansas\, the Wildflower Music Festival in Texas\, and countless others.
LOCATION:
UID:e.2462.16801
SEQUENCE:3
DTSTAMP:20260420T014618Z
URL:https://business.plantcity.org/events/details/jacob-johnson-live-at-krazy-kup-16801
END:VEVENT

END:VCALENDAR
