BEGIN:VCALENDAR
VERSION:2.0
PRODID:-//ChamberMaster//Event Calendar 2.0//EN
METHOD:PUBLISH
X-PUBLISHED-TTL:P3D
REFRESH-INTERVAL:P3D
CALSCALE:GREGORIAN
BEGIN:VEVENT
DTSTART:20260422T213000Z
DTEND:20260422T223000Z
X-MICROSOFT-CDO-ALLDAYEVENT:FALSE
SUMMARY:HomeSmart Series: Smart Equity Moves
DESCRIPTION:CURRENT HOMEOWNERS\, THIS ONE'S FOR YOU!! You may be sitting on a goldmine! This FREE class will help homeowners understand how to strategically leverage their home equity to achieve financial goals and confidently fund future plans. We hope to see you there!! REGISTER HERE: https://attend.hcplc.org/event/15920502 Presented by Laura Schmidt with Berkshire Hathaway Home Services Florida Properties Group and Brandy Novak with Preferred Lending Services\, LLC.
X-ALT-DESC;FMTTYPE=text/html:CURRENT HOMEOWNERS\, THIS ONE&#39\;S FOR YOU!! You may be sitting on a goldmine! This FREE class will help homeowners understand how to strategically leverage their home equity to achieve financial goals and confidently fund future plans. We hope to see you there!! REGISTER HERE: https://attend.hcplc.org/event/15920502 Presented by Laura Schmidt with Berkshire Hathaway Home Services Florida Properties Group and Brandy Novak with Preferred Lending Services\, LLC.
LOCATION:Bruton Memorial Library 302 McLendon St. Plant City\, FL 33563
UID:e.2462.18083
SEQUENCE:3
DTSTAMP:20260422T213957Z
URL:https://business.plantcity.org/events/details/homesmart-series-smart-equity-moves-18083
END:VEVENT

END:VCALENDAR
