BEGIN:VCALENDAR
VERSION:2.0
PRODID:-//ChamberMaster//Event Calendar 2.0//EN
METHOD:PUBLISH
X-PUBLISHED-TTL:P3D
REFRESH-INTERVAL:P3D
CALSCALE:GREGORIAN
BEGIN:VEVENT
DTSTART:20250322T170000Z
DTEND:20250322T230000Z
X-MICROSOFT-CDO-ALLDAYEVENT:FALSE
SUMMARY:History\, Whiskey\, & Wine (21 and Older Event)
DESCRIPTION:Gather 'round for a history-making bash at our very first event! Happening on the lively Evers Street\, get ready to dip in refreshing drinks while chomping down on scrumptious food truck delights\, exploring quirky vendors\, and grooving to some fabulous tunes! Whether you're a history buff\, a foodie fanatic\, or just in the mood for a fun day out\, this celebration has your name written all over it! Dive into the charm of Plant City\, where we toast to its rich past and revel in the lively community vibes that make it shine. Plus\, your ticket scores you tasty samples and light bites at the Plant City History & Photo Archives. Don't miss out on the fun!
X-ALT-DESC;FMTTYPE=text/html:Gather &#39\;round for a history-making bash at our very first event! Happening on the lively Evers Street\, get ready to dip in refreshing drinks while chomping down on scrumptious food truck delights\, exploring quirky vendors\, and grooving to some fabulous tunes! Whether you&#39\;re a history buff\, a foodie fanatic\, or just in the mood for a fun day out\, this celebration has your name written all over it! Dive into the charm of Plant City\, where we toast to its rich past and revel in the lively community vibes that make it shine. Plus\, your ticket scores you tasty samples and light bites at the Plant City History &amp\; Photo Archives. Don&#39\;t miss out on the fun!
LOCATION:106 S Evers St. Plant City\, FL 33563
UID:e.2462.16911
SEQUENCE:3
DTSTAMP:20260419T212359Z
URL:https://business.plantcity.org/events/details/history-whiskey-wine-21-and-older-event-16911
END:VEVENT

END:VCALENDAR
