BEGIN:VCALENDAR
VERSION:2.0
PRODID:-//ChamberMaster//Event Calendar 2.0//EN
METHOD:PUBLISH
X-PUBLISHED-TTL:P3D
REFRESH-INTERVAL:P3D
CALSCALE:GREGORIAN
BEGIN:VEVENT
DTSTART:20250205T190000Z
DTEND:20250205T210000Z
X-MICROSOFT-CDO-ALLDAYEVENT:FALSE
SUMMARY:Health Screening with BayCare
DESCRIPTION:Check-out and CHECK-UP at the library! Visit Bruton Memorial Library and get a free wellness check with BayCare's South Florida Baptist Hospital! BayCare will be at the library until 4pm.
X-ALT-DESC;FMTTYPE=text/html:Check-out and CHECK-UP at the library! Visit Bruton Memorial Library and get a free wellness check with BayCare&rsquo\;s South Florida Baptist Hospital! BayCare will be at the library until 4pm.
LOCATION:Bruton Memorial Library
UID:e.2462.16839
SEQUENCE:3
DTSTAMP:20260419T225632Z
URL:https://business.plantcity.org/events/details/health-screening-with-baycare-16839
END:VEVENT

END:VCALENDAR
