BEGIN:VCALENDAR
VERSION:2.0
PRODID:-//ChamberMaster//Event Calendar 2.0//EN
METHOD:PUBLISH
X-PUBLISHED-TTL:P3D
REFRESH-INTERVAL:P3D
CALSCALE:GREGORIAN
BEGIN:VEVENT
DTSTART:20250626T170000Z
DTEND:20250626T180000Z
X-MICROSOFT-CDO-ALLDAYEVENT:FALSE
SUMMARY:Groundbreaking Ceremony for Wiseman House
DESCRIPTION:The One Church One Child Board of Directors is pleased to announce the Groundbreaking Ceremony for a facility/house to serve older youth in extended foster care or aging out. You are specially invited to join the groundbreaking\, June 26th\, 1:00 pm at Bethel Missionary Baptist Church\, 804 West Renfro Street\, Plant City. See the attached invitation flyer. Across America\, there is an urgency to address a growing need for long-term\, supportive assistance that will provide a temporary safety net and a strong emotional support system for young people to help them transition into self-sufficiency. To that end\, establishing this and other facilities is part of the Legacy Project honoring the long-standing work of One Church One Child's Founder\, Father George Clements\, for his untiring leadership\, commitment\, dedication both nationally and internationally in efforts to help find homes for children and to strengthen families\, lending hope for a better future. If you can attend\, please RSVP via email to latasha_collins@ococfl.org or call our office 850-414-5620. You can also call my cell number\, 850-591-0956\, if you have questions
X-ALT-DESC;FMTTYPE=text/html:The One Church One Child Board of Directors is pleased to announce the Groundbreaking Ceremony for a facility/house to serve older youth in extended foster care or aging out. You are specially invited to join the groundbreaking\, June 26th\, 1:00 pm at Bethel Missionary Baptist Church\, 804 West Renfro Street\, Plant City. See the attached invitation flyer. Across America\, there is an urgency to address a growing need for long-term\, supportive assistance that will provide a temporary safety net and a strong emotional support system for young people to help them transition into self-sufficiency. To that end\, establishing this and other facilities is part of the Legacy Project honoring the long-standing work of One Church One Child&#39\;s Founder\, Father George Clements\, for his untiring leadership\, commitment\, dedication both nationally and internationally in efforts to help find homes for children and to strengthen families\, lending hope for a better future. If you can attend\, please RSVP via email to latasha_collins@ococfl.org or call our office 850-414-5620. You can also call my cell number\, 850-591-0956\, if you have questions
LOCATION:804 West Renfro Street Plant City FL
UID:e.2462.17008
SEQUENCE:3
DTSTAMP:20260419T225508Z
URL:https://business.plantcity.org/events/details/groundbreaking-ceremony-for-wiseman-house-17008
END:VEVENT

END:VCALENDAR
