BEGIN:VCALENDAR
VERSION:2.0
PRODID:-//ChamberMaster//Event Calendar 2.0//EN
METHOD:PUBLISH
X-PUBLISHED-TTL:P3D
REFRESH-INTERVAL:P3D
CALSCALE:GREGORIAN
BEGIN:VEVENT
DTSTART:20250520T150000Z
DTEND:20250520T153000Z
X-MICROSOFT-CDO-ALLDAYEVENT:FALSE
SUMMARY:Groundbreaking Ceremony: Cardel Homes
DESCRIPTION:
X-ALT-DESC;FMTTYPE=text/html:
LOCATION:
UID:e.2462.16980
SEQUENCE:3
DTSTAMP:20260419T212359Z
URL:https://business.plantcity.org/events/details/groundbreaking-ceremony-cardel-homes-16980
END:VEVENT

END:VCALENDAR
