BEGIN:VCALENDAR
VERSION:2.0
PRODID:-//ChamberMaster//Event Calendar 2.0//EN
METHOD:PUBLISH
X-PUBLISHED-TTL:P3D
REFRESH-INTERVAL:P3D
CALSCALE:GREGORIAN
BEGIN:VEVENT
DTSTART:20180128T143000Z
DTEND:20180128T190000Z
X-MICROSOFT-CDO-ALLDAYEVENT:FALSE
SUMMARY:Grand Opening
DESCRIPTION:Next Level Church will open its 10th location in Litha\, FL on Sunday\, January 28th. The church will meet every Sunday at 9:30 and 11 AM at 10540 Browning Rd. Each week will feature live music\, creative video and visual elements\, relevant teaching on things that matter to everyday life\, and a kids' environment for children of every age to learn in an exciting way. Next Level Church started nine years ago with just 12 people and has grown rapidly\, recently being named by Outreach Magazine as among the 100 fastest-growing churches in America for the fourth consecutive year. In addition to the FishHawk Florida location\, the church also boasts eight locations in the Northeast\, including Conway\, Keene\, Pembroke\, Stratham and Somersworth in New Hampshire\; Worcester in Massachusetts\; Saratoga Springs\, N.Y.\; and Chateauguay\, Quebec. Next Level Church believes that church should be fun\, exciting and\, most importantly\, understandable and relevant to real-life situations\; a place where people can experience the message of the Bible in a casual\, inviting atmosphere no matter where they are in life. "We started Next Level Church with the belief that people didn't object to the message of Jesus\, but rather to the way they had experienced church in the past as judgmental\, boring or hypocritical\," lead Pastor Josh Gagnon said in a news release. "We have found that to be right. When a church is fun\, casual and shares Jesus in a way people can relate to\, people love it." For more information about Next Level Church Keene: http://nlc.tv/locations/fishhawk-fl/.
X-ALT-DESC;FMTTYPE=text/html:Next Level Church will open its 10th location in Litha\, FL on Sunday\, January 28th. The church will meet every Sunday at 9:30 and 11 AM at 10540 Browning Rd. Each week will feature live music\, creative video and visual elements\, relevant teaching on things that matter to everyday life\, and a kids&rsquo\; environment for children of every age to learn in an exciting way. Next Level Church started nine years ago with just 12 people and has grown rapidly\, recently being named by Outreach Magazine as among the 100 fastest-growing churches in America for the fourth consecutive year. In addition to the FishHawk Florida location\, the church also boasts eight locations in the Northeast\, including Conway\, Keene\, Pembroke\, Stratham and Somersworth in New Hampshire\; Worcester in Massachusetts\; Saratoga Springs\, N.Y.\; and Chateauguay\, Quebec. Next Level Church believes that church should be fun\, exciting and\, most importantly\, understandable and relevant to real-life situations\; a place where people can experience the message of the Bible in a casual\, inviting atmosphere no matter where they are in life. &ldquo\;We started Next Level Church with the belief that people didn&rsquo\;t object to the message of Jesus\, but rather to the way they had experienced church in the past as judgmental\, boring or hypocritical\,&rdquo\; lead Pastor Josh Gagnon said in a news release. &ldquo\;We have found that to be right. When a church is fun\, casual and shares Jesus in a way people can relate to\, people love it.&rdquo\; For more information about Next Level Church Keene: http://nlc.tv/locations/fishhawk-fl/.
LOCATION:10540 Browning Rd\, Lithia\, FL 33547
UID:e.2462.4991
SEQUENCE:3
DTSTAMP:20260422T034217Z
URL:https://business.plantcity.org/events/details/grand-opening-4991
END:VEVENT

END:VCALENDAR
