BEGIN:VCALENDAR
VERSION:2.0
PRODID:-//ChamberMaster//Event Calendar 2.0//EN
METHOD:PUBLISH
X-PUBLISHED-TTL:P3D
REFRESH-INTERVAL:P3D
CALSCALE:GREGORIAN
BEGIN:VEVENT
DTSTART:20250620T160000Z
DTEND:20250620T190000Z
X-MICROSOFT-CDO-ALLDAYEVENT:FALSE
SUMMARY:Grace Manor's Independent Building Birthday
DESCRIPTION:
X-ALT-DESC;FMTTYPE=text/html:
LOCATION:
UID:e.2462.17009
SEQUENCE:3
DTSTAMP:20260419T225644Z
URL:https://business.plantcity.org/events/details/grace-manor-s-independent-building-birthday-17009
END:VEVENT

END:VCALENDAR
