BEGIN:VCALENDAR
VERSION:2.0
PRODID:-//ChamberMaster//Event Calendar 2.0//EN
METHOD:PUBLISH
X-PUBLISHED-TTL:P3D
REFRESH-INTERVAL:P3D
CALSCALE:GREGORIAN
BEGIN:VEVENT
DTSTART:20250828T213000Z
DTEND:20250829T000000Z
X-MICROSOFT-CDO-ALLDAYEVENT:FALSE
SUMMARY:Florida Institute for Political Leadership
DESCRIPTION:The online training school is highly recommended for candidates and anyone interested in running for local or state office\, serving their community\, or managing campaigns. It is open to everyone\, free to attend\, and non-partisan. Participants are welcome to attend any or all days offered.\n\nFIPL Campaign School & Leadership Trainings provide a comprehensive briefing on emerging local and state issues\, teach attendees what local opportunities are available for appointed or elected positions\, offer guidance on how to prepare to run for office\, and provide training on how to run winning campaigns.\n\nPresenters include state and local political experts\, elected officials\, university professors\, and community leaders.\n\nRegister online: www.FIPL.org/Register
X-ALT-DESC;FMTTYPE=text/html:<p style="margin-top:12.0pt\;line-height:18.0pt"><span style="font-family: Arial\, sans-serif\;">The online training school is highly recommended for candidates and anyone interested in running for local or state office\, serving their community\, or managing campaigns. <strong>It is open to everyone\, free to attend\, and non-partisan. Participants are welcome to attend any or all days offered.</strong></span><span style="font-family:&quot\;Arial&quot\;\,sans-serif\;color:#333333"><o:p></o:p></span></p>\n\n<p style="margin-top:12.0pt\;line-height:18.0pt"><span style="font-family: Arial\, sans-serif\;">FIPL Campaign School &amp\; Leadership Trainings provide a comprehensive briefing on emerging local and state issues\, teach attendees what local opportunities are available for appointed or elected positions\, offer guidance on how to prepare to run for office\, and provide training on how to run winning campaigns.</span><span style="font-family:&quot\;Arial&quot\;\,sans-serif\;\ncolor:#333333"><o:p></o:p></span></p>\n\n<p style="margin-top:12.0pt\;line-height:18.0pt"><span style="font-family: Arial\, sans-serif\;">Presenters include state and local political experts\, elected officials\, university professors\, and community leaders.</span><span style="font-family:&quot\;Arial&quot\;\,sans-serif\;color:#333333"><o:p></o:p></span></p>\n\n<p style="margin-top:12.0pt\;line-height:18.0pt"><strong><span style="font-family: Arial\, sans-serif\;">Register online:</span></strong><span style="font-family: Arial\, sans-serif\;"> </span><span style="font-family:&quot\;Arial&quot\;\,sans-serif\;color:#333333"><a href="https://click-1806086.icptrack.com/icp/relay.php?r=21252515&amp\;msgid=102227&amp\;act=F41E&amp\;c=1806086&amp\;pid=172145&amp\;destination=http%3A%2F%2Fwww.FIPL.org%2FRegister&amp\;cf=1398&amp\;v=6a34bcd791520edccf6418109ff8f106a4c61a78c688639eb64ea5c4d84794ab" target="_blank"><strong><span style="color: rgb(32\, 10\, 233)\;">www.FIPL.org/Register</span></strong></a><o:p></o:p></span></p>\n
LOCATION:
UID:e.2462.17500
SEQUENCE:3
DTSTAMP:20260425T020704Z
URL:https://business.plantcity.org/events/details/florida-institute-for-political-leadership-17500
END:VEVENT

END:VCALENDAR
