BEGIN:VCALENDAR
VERSION:2.0
PRODID:-//ChamberMaster//Event Calendar 2.0//EN
METHOD:PUBLISH
X-PUBLISHED-TTL:P3D
REFRESH-INTERVAL:P3D
CALSCALE:GREGORIAN
BEGIN:VEVENT
DTSTART:20250926T223000Z
DTEND:20250927T013000Z
X-MICROSOFT-CDO-ALLDAYEVENT:FALSE
SUMMARY:Flavors of Spain Wine Tasting
DESCRIPTION:Join Sommelier Rachel Dummeldinger for the Flavors of Spain\, wine tasting dinner\, featuring premium wines from Spain and Portugal. Chef Scott Duffy will provide fresh tapas for precise pairings. The evening begins at 6:30 with classical guitar and by Julian Costales.
X-ALT-DESC;FMTTYPE=text/html:Join Sommelier Rachel Dummeldinger for the Flavors of Spain\, wine tasting dinner\, featuring premium wines from Spain and Portugal. Chef Scott Duffy will provide fresh tapas for precise pairings. The evening begins at 6:30 with classical guitar and by Julian Costales.
LOCATION:Red Calliope Gallery on Evers
UID:e.2462.17505
SEQUENCE:3
DTSTAMP:20260424T225501Z
URL:https://business.plantcity.org/events/details/flavors-of-spain-wine-tasting-17505
END:VEVENT

END:VCALENDAR
