BEGIN:VCALENDAR
VERSION:2.0
PRODID:-//ChamberMaster//Event Calendar 2.0//EN
METHOD:PUBLISH
X-PUBLISHED-TTL:P3D
REFRESH-INTERVAL:P3D
CALSCALE:GREGORIAN
BEGIN:VEVENT
DTSTART:20250105T150000Z
DTEND:20250105T190000Z
X-MICROSOFT-CDO-ALLDAYEVENT:FALSE
SUMMARY:Fishhawk Ranch Sunday Market
DESCRIPTION:Over 40 vendors selling handcrafted items\, food\, pet products and so much more!!!
X-ALT-DESC;FMTTYPE=text/html:Over 40 vendors selling handcrafted items\, food\, pet products and so much more!!!
LOCATION:5970 Beaconpark Dr. Lithia Fl
UID:e.2462.16793
SEQUENCE:3
DTSTAMP:20260420T001556Z
URL:https://business.plantcity.org/events/details/fishhawk-ranch-sunday-market-01-05-2025-16793
END:VEVENT

END:VCALENDAR
