BEGIN:VCALENDAR
VERSION:2.0
PRODID:-//ChamberMaster//Event Calendar 2.0//EN
METHOD:PUBLISH
X-PUBLISHED-TTL:P3D
REFRESH-INTERVAL:P3D
CALSCALE:GREGORIAN
BEGIN:VEVENT
DTSTART:20250920T140000Z
DTEND:20250920T190000Z
X-MICROSOFT-CDO-ALLDAYEVENT:FALSE
SUMMARY:Fishhawk Ranch Shopping Bazaar
DESCRIPTION:Vendor spaces now available! Email sparvin@fishhawkranchcdd.org for more information.
X-ALT-DESC;FMTTYPE=text/html:Vendor spaces now available! Email sparvin@fishhawkranchcdd.org for more information.
LOCATION:The Palmetto Club 17004 Dorman Rd. Lithia
UID:e.2462.17227
SEQUENCE:3
DTSTAMP:20260425T002707Z
URL:https://business.plantcity.org/events/details/fishhawk-ranch-shopping-bazaar-09-20-2025-17227
END:VEVENT

END:VCALENDAR
