BEGIN:VCALENDAR
VERSION:2.0
PRODID:-//ChamberMaster//Event Calendar 2.0//EN
METHOD:PUBLISH
X-PUBLISHED-TTL:P3D
REFRESH-INTERVAL:P3D
CALSCALE:GREGORIAN
BEGIN:VEVENT
DTSTART:20251005T140000Z
DTEND:20251005T180000Z
X-MICROSOFT-CDO-ALLDAYEVENT:FALSE
SUMMARY:Fishhawk Ranch Market
DESCRIPTION:The Fishhawk Ranch Market is back for a new season! Join us THIS SUNDAY as the market comes alive with your favorite returning vendors and exciting new faces\, all offering local\, artisanal goods you'll love. From fresh produce to handmade crafts\, there's something for everyone. Make it your Sunday routine stop by\, shop local\, and support your neighborhood market!   Happening every first Sunday of the month\, until May 2026. To become a vendor\, please email events@fishhawkranchcdd.org
X-ALT-DESC;FMTTYPE=text/html:The Fishhawk Ranch Market is back for a new season! Join us THIS SUNDAY as the market comes alive with your favorite returning vendors and exciting new faces\, all offering local\, artisanal goods you&rsquo\;ll love. From fresh produce to handmade crafts\, there&#39\;s something for everyone. Make it your Sunday routine&mdash\;stop by\, shop local\, and support your neighborhood market! &nbsp\; Happening every first Sunday of the month\, until May 2026. To become a vendor\, please email events@fishhawkranchcdd.org
LOCATION:
UID:e.2462.17542
SEQUENCE:3
DTSTAMP:20260424T212153Z
URL:https://business.plantcity.org/events/details/fishhawk-ranch-market-17542
END:VEVENT

END:VCALENDAR
