BEGIN:VCALENDAR
VERSION:2.0
PRODID:-//ChamberMaster//Event Calendar 2.0//EN
METHOD:PUBLISH
X-PUBLISHED-TTL:P3D
REFRESH-INTERVAL:P3D
CALSCALE:GREGORIAN
BEGIN:VEVENT
DTSTART:20251207T150000Z
DTEND:20251207T190000Z
X-MICROSOFT-CDO-ALLDAYEVENT:FALSE
SUMMARY:Fishhawk Ranch Holiday Market
DESCRIPTION:Join us for our first FishHawk Ranch Community Holiday Market! Celebrate the season at the Palmetto Club with a festive indoor/outdoor market featuring local vendors\, handmade crafts\, unique gifts\, and delicious food options. It's the perfect place to find one-of-a-kind treasures\, support small businesses\, and share in the holiday spirit that makes our community shine! For more information\, or to become a vendor\, please email events@fishhawkranchcdd.org.
X-ALT-DESC;FMTTYPE=text/html:Join us for our first FishHawk Ranch Community Holiday Market! Celebrate the season at the Palmetto Club with a festive indoor/outdoor market featuring local vendors\, handmade crafts\, unique gifts\, and delicious food options. It&rsquo\;s the perfect place to find one-of-a-kind treasures\, support small businesses\, and share in the holiday spirit that makes our community shine! For more information\, or to become a vendor\, please email events@fishhawkranchcdd.org.
LOCATION:The Palmetto Club 17004 Dorman Rd. Lithia
UID:e.2462.17710
SEQUENCE:3
DTSTAMP:20260424T183003Z
URL:https://business.plantcity.org/events/details/fishhawk-ranch-holiday-market-12-07-2025-17710
END:VEVENT

END:VCALENDAR
