BEGIN:VCALENDAR
VERSION:2.0
PRODID:-//ChamberMaster//Event Calendar 2.0//EN
METHOD:PUBLISH
X-PUBLISHED-TTL:P3D
REFRESH-INTERVAL:P3D
CALSCALE:GREGORIAN
BEGIN:VEVENT
DTSTART:20241201T150000Z
DTEND:20241201T190000Z
X-MICROSOFT-CDO-ALLDAYEVENT:FALSE
SUMMARY:Fishhawk Ranch Holiday Market
DESCRIPTION:FREE to attend! Great way to kick of your holiday shopping!!
X-ALT-DESC;FMTTYPE=text/html:FREE to attend! Great way to kick of your holiday shopping!!
LOCATION:
UID:e.2462.16178
SEQUENCE:3
DTSTAMP:20260420T014704Z
URL:https://business.plantcity.org/events/details/fishhawk-ranch-holiday-market-12-01-2024-16178
END:VEVENT

END:VCALENDAR
