BEGIN:VCALENDAR
VERSION:2.0
PRODID:-//ChamberMaster//Event Calendar 2.0//EN
METHOD:PUBLISH
X-PUBLISHED-TTL:P3D
REFRESH-INTERVAL:P3D
CALSCALE:GREGORIAN
BEGIN:VEVENT
DTSTART:20251018T120000Z
DTEND:20251018T160000Z
X-MICROSOFT-CDO-ALLDAYEVENT:FALSE
SUMMARY:Fishhawk Ranch Community Garage Sale
DESCRIPTION:Community Wide. Look for banners at main entrances.
X-ALT-DESC;FMTTYPE=text/html:Community Wide. Look for banners at main entrances.
LOCATION:5721 Osprey Ridge Dr.\, Lithia
UID:e.2462.17536
SEQUENCE:3
DTSTAMP:20260424T225218Z
URL:https://business.plantcity.org/events/details/fishhawk-ranch-community-garage-sale-10-18-2025-17536
END:VEVENT

END:VCALENDAR
