BEGIN:VCALENDAR
VERSION:2.0
PRODID:-//ChamberMaster//Event Calendar 2.0//EN
METHOD:PUBLISH
X-PUBLISHED-TTL:P3D
REFRESH-INTERVAL:P3D
CALSCALE:GREGORIAN
BEGIN:VEVENT
DTSTART:20250426T120000Z
DTEND:20250426T160000Z
X-MICROSOFT-CDO-ALLDAYEVENT:FALSE
SUMMARY:Fishhawk Ranch Community Garage Sale
DESCRIPTION:100's of homes participating. Look for banners outside of sub-divisions. Address for GPS - 5721 Osprey Ridge Dr. Lithia
X-ALT-DESC;FMTTYPE=text/html:100&#39\;s of homes participating. Look for banners outside of sub-divisions. Address for GPS - 5721 Osprey Ridge Dr. Lithia
LOCATION:5721 Osprey Ridge Dr. Lithia
UID:e.2462.16930
SEQUENCE:3
DTSTAMP:20260419T181602Z
URL:https://business.plantcity.org/events/details/fishhawk-ranch-community-garage-sale-04-26-2025-16930
END:VEVENT

END:VCALENDAR
