BEGIN:VCALENDAR
VERSION:2.0
PRODID:-//ChamberMaster//Event Calendar 2.0//EN
METHOD:PUBLISH
X-PUBLISHED-TTL:P3D
REFRESH-INTERVAL:P3D
CALSCALE:GREGORIAN
BEGIN:VEVENT
DTSTART:20250219T163000Z
DTEND:20250219T180000Z
X-MICROSOFT-CDO-ALLDAYEVENT:FALSE
SUMMARY:February Power Hour - Aspire Plant City
DESCRIPTION:Dawn DiMicco\, founder of Epic Redemption Coaching\, is dedicated to Igniting Excellence and empowering individuals\, teams\, and organizations to reach their highest potential. With a background as a dual-sport collegiate athlete\, fitness and nutrition coach\, and business strategist\, Dawn blends insights from psychology and her Masters in Social Work to unveil the 3 Elements of Excellence. Through personalized coaching\, team consulting\, and keynote speaking\, Dawn imparts essential strategies for cultivating a Champion Mindset\, nurturing Inspired Leadership\, and fostering dynamic Team Culture. Dawn is the host of the Daily Rising podcast and is the author of "Courage Rising"\, "Champion Rising\," and "Daily Rising" as well as the co-founder of The CLEAR Planner\, Dawn equips individuals with the tools for extraordinary results. Join Dawn on a journey of self-discovery\, growth\, and unparalleled success. It's time to unlock your potential and redefine excellence
X-ALT-DESC;FMTTYPE=text/html:Dawn DiMicco\, founder of Epic Redemption Coaching\, is dedicated to Igniting Excellence and empowering individuals\, teams\, and organizations to reach their highest potential. With a background as a dual-sport collegiate athlete\, fitness and nutrition coach\, and business strategist\, Dawn blends insights from psychology and her Masters in Social Work to unveil the 3 Elements of Excellence. Through personalized coaching\, team consulting\, and keynote speaking\, Dawn imparts essential strategies for cultivating a Champion Mindset\, nurturing Inspired Leadership\, and fostering dynamic Team Culture. Dawn is the host of the Daily Rising podcast and is the author of &quot\;Courage Rising&quot\;\, &quot\;Champion Rising\,&quot\; and &ldquo\;Daily Rising&rdquo\; as well as the co-founder of The CLEAR Planner\, Dawn equips individuals with the tools for extraordinary results. Join Dawn on a journey of self-discovery\, growth\, and unparalleled success. It&#39\;s time to unlock your potential and redefine excellence
LOCATION:
UID:e.2462.16893
SEQUENCE:3
DTSTAMP:20260419T225632Z
URL:https://business.plantcity.org/events/details/february-power-hour-aspire-plant-city-16893
END:VEVENT

END:VCALENDAR
