BEGIN:VCALENDAR
VERSION:2.0
PRODID:-//ChamberMaster//Event Calendar 2.0//EN
METHOD:PUBLISH
X-PUBLISHED-TTL:P3D
REFRESH-INTERVAL:P3D
CALSCALE:GREGORIAN
BEGIN:VEVENT
DTSTART:20250216T160000Z
DTEND:20250216T170000Z
X-MICROSOFT-CDO-ALLDAYEVENT:FALSE
SUMMARY:Family Farm Yoga benefitting Rescue Pets of Florida
DESCRIPTION:Join us for a *pawsitively* unique yoga session in the serene setting at Horse'N Around with Rescue Pets of Florida. Our monthly Family Farm Yoga class offers the *purrfect* way to unwind\, surrounded by the peaceful presence of the *mane* attractions   our rescued animal friends! Whether you're a beginner or an experienced yogi\, you'll find relaxation and joy in this one-of-a-kind experience. This is fun for the whole family. **What to Expect:** - A slow flow yoga session suitable for all levels\, led by a Sherri Keenan - *Fur-tastic* interactions with friendly rescued animals\, including goats\, horses\, cows\, donkeys\, ducks\, pigs\, bunnies\, and more... most available for adoption. - A beautiful\, tranquil environment *purr-fect* for unwinding and connecting with nature. - An opportunity to support the mission of Rescue Pets of Florida and learn more about their rescue efforts. **What to Bring:** - Yoga mat - Water bottle - Comfortable clothing suitable for outdoor activity - Bug Spray Come for the yoga\, stay for the joy of connecting with our animal friends\, and leave feeling refreshed and inspired! We are so excited to share this incredible space with you! $20 per person.
X-ALT-DESC;FMTTYPE=text/html:Join us for a *pawsitively* unique yoga session in the serene setting at Horse&rsquo\;N Around with Rescue Pets of Florida. Our monthly Family Farm Yoga class offers the *purrfect* way to unwind\, surrounded by the peaceful presence of the *mane* attractions &ndash\; our rescued animal friends! Whether you&rsquo\;re a beginner or an experienced yogi\, you&rsquo\;ll find relaxation and joy in this one-of-a-kind experience. This is fun for the whole family. **What to Expect:** - A slow flow yoga session suitable for all levels\, led by a Sherri Keenan - *Fur-tastic* interactions with friendly rescued animals\, including goats\, horses\, cows\, donkeys\, ducks\, pigs\, bunnies\, and more... most available for adoption. - A beautiful\, tranquil environment *purr-fect* for unwinding and connecting with nature. - An opportunity to support the mission of Rescue Pets of Florida and learn more about their rescue efforts. **What to Bring:** - Yoga mat - Water bottle - Comfortable clothing suitable for outdoor activity - Bug Spray Come for the yoga\, stay for the joy of connecting with our animal friends\, and leave feeling refreshed and inspired! We are so excited to share this incredible space with you! $20 per person.
LOCATION:7805 Paul Buchman Hwy\, Plant City\, FL 33565-7145\, United States
UID:e.2462.16891
SEQUENCE:3
DTSTAMP:20260419T230217Z
URL:https://business.plantcity.org/events/details/family-farm-yoga-benefitting-rescue-pets-of-florida-16891
END:VEVENT

END:VCALENDAR
