BEGIN:VCALENDAR
VERSION:2.0
PRODID:-//ChamberMaster//Event Calendar 2.0//EN
METHOD:PUBLISH
X-PUBLISHED-TTL:P3D
REFRESH-INTERVAL:P3D
CALSCALE:GREGORIAN
BEGIN:VEVENT
DTSTART:20251017T223000Z
DTEND:20251018T003000Z
X-MICROSOFT-CDO-ALLDAYEVENT:FALSE
SUMMARY:Fall Festival
DESCRIPTION:Fun\, food\, games\, hay rides and a bit of history to learn about Johnny Appleseed at our Fall Festival. FUN for the ENTIRE Family!
X-ALT-DESC;FMTTYPE=text/html:Fun\, food\, games\, hay rides and a bit of history to learn about Johnny Appleseed at our Fall Festival. FUN for the ENTIRE Family!
LOCATION:Hope Lutheran Church 2001 North Park Road Plant City
UID:e.2462.17548
SEQUENCE:3
DTSTAMP:20260424T225300Z
URL:https://business.plantcity.org/events/details/fall-festival-10-17-2025-17548
END:VEVENT

END:VCALENDAR
