BEGIN:VCALENDAR
VERSION:2.0
PRODID:-//ChamberMaster//Event Calendar 2.0//EN
METHOD:PUBLISH
X-PUBLISHED-TTL:P3D
REFRESH-INTERVAL:P3D
CALSCALE:GREGORIAN
BEGIN:VEVENT
DTSTART:20250509T230000Z
DTEND:20250510T003000Z
X-MICROSOFT-CDO-ALLDAYEVENT:FALSE
SUMMARY:Edgar Live at Krazy Kup
DESCRIPTION:Join us for an unforgettable evening of music with Edgar! Experience a unique blend of contemporary worship infused with the soulful vibes of a singer-songwriter\, along with Edgar's captivating original music. Edgar is a talented musician whose performances are known for their heartfelt and powerful impact. Combining contemporary worship with his own original songs\, Edgar creates a moving and uplifting atmosphere that resonates with all who listen. Bring your friends and family for a night that promises to inspire and uplift your spirit..
X-ALT-DESC;FMTTYPE=text/html:Join us for an unforgettable evening of music with Edgar! Experience a unique blend of contemporary worship infused with the soulful vibes of a singer-songwriter\, along with Edgar&#39\;s captivating original music. Edgar is a talented musician whose performances are known for their heartfelt and powerful impact. Combining contemporary worship with his own original songs\, Edgar creates a moving and uplifting atmosphere that resonates with all who listen. Bring your friends and family for a night that promises to inspire and uplift your spirit..
LOCATION:
UID:e.2462.16977
SEQUENCE:3
DTSTAMP:20260419T212449Z
URL:https://business.plantcity.org/events/details/edgar-live-at-krazy-kup-05-09-2025-16977
END:VEVENT

END:VCALENDAR
