BEGIN:VCALENDAR
VERSION:2.0
PRODID:-//ChamberMaster//Event Calendar 2.0//EN
METHOD:PUBLISH
X-PUBLISHED-TTL:P3D
REFRESH-INTERVAL:P3D
CALSCALE:GREGORIAN
BEGIN:VEVENT
DTSTART:20160129T130000Z
DTEND:20160129T160000Z
X-MICROSOFT-CDO-ALLDAYEVENT:FALSE
SUMMARY:ECC Partners & Community Entrepreneurs
DESCRIPTION:
X-ALT-DESC;FMTTYPE=text/html:
LOCATION:2101 East Palm Avenue in Tampa
UID:e.2462.1556
SEQUENCE:3
DTSTAMP:20260420T115823Z
URL:https://business.plantcity.org/events/details/ecc-partners-community-entrepreneurs-01-29-2016-1556
END:VEVENT

END:VCALENDAR
