BEGIN:VCALENDAR
VERSION:2.0
PRODID:-//ChamberMaster//Event Calendar 2.0//EN
METHOD:PUBLISH
X-PUBLISHED-TTL:P3D
REFRESH-INTERVAL:P3D
CALSCALE:GREGORIAN
BEGIN:VEVENT
DTSTART:20250516T143000Z
DTEND:20250516T150000Z
X-MICROSOFT-CDO-ALLDAYEVENT:FALSE
SUMMARY:E-Book Assistance
DESCRIPTION:Frustrated or confused on how to use Libby or Hoopla? Visit us to learn more about these great library apps! We'll teach you the basics of how to highlight\, change the lighting and even how to change the text font!
X-ALT-DESC;FMTTYPE=text/html:Frustrated or confused on how to use Libby or Hoopla? Visit us to learn more about these great library apps! We&#39\;ll teach you the basics of how to highlight\, change the lighting and even how to change the text font!
LOCATION:Bruton Memorial Library
UID:e.2462.16957
SEQUENCE:3
DTSTAMP:20260419T212150Z
URL:https://business.plantcity.org/events/details/e-book-assistance-16957
END:VEVENT

END:VCALENDAR
