BEGIN:VCALENDAR
VERSION:2.0
PRODID:-//ChamberMaster//Event Calendar 2.0//EN
METHOD:PUBLISH
X-PUBLISHED-TTL:P3D
REFRESH-INTERVAL:P3D
CALSCALE:GREGORIAN
BEGIN:VEVENT
DTSTART:20161013T210000Z
DTEND:20161013T210000Z
X-MICROSOFT-CDO-ALLDAYEVENT:FALSE
SUMMARY:Ducks Unlimited Fundraiser
DESCRIPTION:East Hillsborough Ducks Unlimited invites you to its 30th Annual Fundraising Dinner.  Over 15 guns plus DU coolers\, guided hunting & fishing trips\, as well as exclusive DU 2016 merchandise.  Plus much more!\n\n\n\nDucks Unlimited is the world's foremost wetlands conservation organization!  Hunters and conservationists saving our wetlands for our children's children-ONE ACRE AT A TIME!  Over 16 Million Acres saved today!
X-ALT-DESC;FMTTYPE=text/html:East Hillsborough Ducks Unlimited invites you to its 30th Annual Fundraising Dinner. &nbsp\;Over 15 guns plus DU coolers\, guided hunting &amp\; fishing trips\, as well as exclusive DU 2016 merchandise. &nbsp\;Plus much more!<br />\n<br />\nDucks Unlimited is the world&#39\;s foremost wetlands conservation organization! &nbsp\;Hunters and conservationists saving our wetlands for our children&#39\;s children-ONE ACRE AT A TIME! &nbsp\;Over 16 Million Acres saved today!
LOCATION:The Armory 4004 Airport Road Plant City\, FL 33563
UID:e.2462.2602
SEQUENCE:3
DTSTAMP:20260422T055449Z
URL:https://business.plantcity.org/events/details/ducks-unlimited-fundraiser-2602
END:VEVENT

END:VCALENDAR
