BEGIN:VCALENDAR
VERSION:2.0
PRODID:-//ChamberMaster//Event Calendar 2.0//EN
METHOD:PUBLISH
X-PUBLISHED-TTL:P3D
REFRESH-INTERVAL:P3D
CALSCALE:GREGORIAN
BEGIN:VEVENT
DTSTART:20250503T140000Z
DTEND:20250503T200000Z
X-MICROSOFT-CDO-ALLDAYEVENT:FALSE
SUMMARY:Duck Domestic Violence
DESCRIPTION:Location: All Around Tampa Bay Final Event: 2:00 PM at the Motor Enclave\, 6500 Motor Enclave Way\, Tampa\, FL 33610 Participants will gear up for an exhilarating adventure around Tampa Bay\, where they will collect colorful\, numbered ducks at eight thrilling stops. After gathering their ducks\, they will all gather at the final stop\, The Motor Enclave\, for an epic party with a mouth-watering BBQ Dinner catered by Roots Southern BBQ. At this final event\, we will be giving away over $2000 worth of prizes\, making it an exciting and rewarding conclusion to the adventure! This event is open to all vehicles\, but only 100 can participate! Tickets are $75 per vehicle and include entry for two to the final event. If you have more than two people in your vehicle\, no problem! Extra Rider tickets for the final event can be purchased for $25.
X-ALT-DESC;FMTTYPE=text/html:Location: All Around Tampa Bay Final Event: 2:00 PM at the Motor Enclave\, 6500 Motor Enclave Way\, Tampa\, FL 33610 Participants will gear up for an exhilarating adventure around Tampa Bay\, where they will collect colorful\, numbered ducks at eight thrilling stops. After gathering their ducks\, they will all gather at the final stop\, The Motor Enclave\, for an epic party with a mouth-watering BBQ Dinner catered by Roots Southern BBQ. At this final event\, we will be giving away over $2000 worth of prizes\, making it an exciting and rewarding conclusion to the adventure! This event is open to all vehicles\, but only 100 can participate! Tickets are $75 per vehicle and include entry for two to the final event. If you have more than two people in your vehicle\, no problem! Extra Rider tickets for the final event can be purchased for $25.
LOCATION:Location: All Around Tampa Bay Final Event: 2:00 PM at the Motor Enclave\, 6500 Motor Enclave Way\, Tampa\, FL 33610
UID:e.2462.16960
SEQUENCE:3
DTSTAMP:20260419T212338Z
URL:https://business.plantcity.org/events/details/duck-domestic-violence-16960
END:VEVENT

END:VCALENDAR
