BEGIN:VCALENDAR
VERSION:2.0
PRODID:-//ChamberMaster//Event Calendar 2.0//EN
METHOD:PUBLISH
X-PUBLISHED-TTL:P3D
REFRESH-INTERVAL:P3D
CALSCALE:GREGORIAN
BEGIN:VEVENT
DTSTART:20250809T223000Z
DTEND:20250810T000000Z
X-MICROSOFT-CDO-ALLDAYEVENT:FALSE
SUMMARY:Downtown Plant City Second Saturday Sounds With Jay Hill
DESCRIPTION:Join us for this months celebration of Downtown Plant City's #SecondSaturdaySounds as we welcome Jay Hill back to the stage! He put on a show-stopping performance last month\, so trust us when we say you DO NOT want to miss this!  | 201 E Martin Luther King Jr BLVD\, Plant City FL | 6:30PM to 8:00PM | FREE for all dine-in patrons
X-ALT-DESC;FMTTYPE=text/html:Join us for this months celebration of Downtown Plant City&#39\;s&nbsp\;#SecondSaturdaySounds&nbsp\;as we welcome Jay Hill back to the stage! He put on a show-stopping performance last month\, so trust us when we say you DO NOT want to miss this!&nbsp\; | 201 E Martin Luther King Jr BLVD\, Plant City FL | 6:30PM to 8:00PM | FREE for all dine-in patrons
LOCATION:201 E Dr Martin Luther King Jr Blvd Plant City\, FL 33563
UID:e.2462.17240
SEQUENCE:3
DTSTAMP:20260425T003023Z
URL:https://business.plantcity.org/events/details/downtown-plant-city-second-saturday-sounds-with-jay-hill-17240
END:VEVENT

END:VCALENDAR
