BEGIN:VCALENDAR
VERSION:2.0
PRODID:-//ChamberMaster//Event Calendar 2.0//EN
METHOD:PUBLISH
X-PUBLISHED-TTL:P3D
REFRESH-INTERVAL:P3D
CALSCALE:GREGORIAN
BEGIN:VEVENT
DTSTART:20250416T190000Z
DTEND:20250416T200000Z
X-MICROSOFT-CDO-ALLDAYEVENT:FALSE
SUMMARY:Dog Tales with Fuzzy Rogers
DESCRIPTION:Fuzzy Rogers loves to snuggle up with anyone who wants to share a book and some pats on the head. You can find him in the children's area ready to listen! Reading with Fuzzy Rogers can help children improve reading\, communication skills and build confidence. For all ages.
X-ALT-DESC;FMTTYPE=text/html:Fuzzy Rogers loves to snuggle up with anyone who wants to share a book and some pats on the head. You can find him in the children&rsquo\;s area ready to listen! Reading with Fuzzy Rogers can help children improve reading\, communication skills and build confidence. For all ages.
LOCATION:Bruton Memorial Library
UID:e.2462.16928
SEQUENCE:3
DTSTAMP:20260419T182317Z
URL:https://business.plantcity.org/events/details/dog-tales-with-fuzzy-rogers-04-16-2025-16928
END:VEVENT

END:VCALENDAR
